BEGIN:VCALENDAR
VERSION:2.0
PRODID:-//scimint | academy - ECPv6.15.13//NONSGML v1.0//EN
CALSCALE:GREGORIAN
METHOD:PUBLISH
X-ORIGINAL-URL:https://academy.scimint.com
X-WR-CALDESC:Veranstaltungen für scimint | academy
REFRESH-INTERVAL;VALUE=DURATION:PT1H
X-Robots-Tag:noindex
X-PUBLISHED-TTL:PT1H
BEGIN:VTIMEZONE
TZID:Europe/Berlin
BEGIN:DAYLIGHT
TZOFFSETFROM:+0100
TZOFFSETTO:+0200
TZNAME:CEST
DTSTART:20240331T010000
END:DAYLIGHT
BEGIN:STANDARD
TZOFFSETFROM:+0200
TZOFFSETTO:+0100
TZNAME:CET
DTSTART:20241027T010000
END:STANDARD
BEGIN:DAYLIGHT
TZOFFSETFROM:+0100
TZOFFSETTO:+0200
TZNAME:CEST
DTSTART:20250330T010000
END:DAYLIGHT
BEGIN:STANDARD
TZOFFSETFROM:+0200
TZOFFSETTO:+0100
TZNAME:CET
DTSTART:20251026T010000
END:STANDARD
BEGIN:DAYLIGHT
TZOFFSETFROM:+0100
TZOFFSETTO:+0200
TZNAME:CEST
DTSTART:20260329T010000
END:DAYLIGHT
BEGIN:STANDARD
TZOFFSETFROM:+0200
TZOFFSETTO:+0100
TZNAME:CET
DTSTART:20261025T010000
END:STANDARD
END:VTIMEZONE
BEGIN:VEVENT
DTSTART;TZID=Europe/Berlin:20250306T140000
DTEND;TZID=Europe/Berlin:20250306T180000
DTSTAMP:20260421T044726
CREATED:20240304T170227Z
LAST-MODIFIED:20250122T165629Z
UID:10687-1741269600-1741284000@academy.scimint.com
SUMMARY:CU-Book Multivisions-Workshop 2|6
DESCRIPTION:In diesem Teil werden grundlegende Aspekte rund um die Verwendung von Grafiken erlernt. Wir benutzen sie täglich und suchen stundenlang\, bis wir im Internet eine passende finden. Oft vergeblich. Dann entscheiden wir uns für einen Kompromiss\, dabei wäre es gar nicht notwendig\, denn mit den richtigen Kenntnissen ist man schnell bei den gewünschten Ergebnissen. \nHier geht es nun um: \n\nGrafikformate\nBearbeiten von Grafiken\nGrundlagen in Inkscape\nVersuchsskizzen erstellen mit Chemix.org\nStrukturformeln mit Grafiktools und Vorlagen mit \LaTeX{}\n\nLehrer können sich über die Uni Frankfurt kostenlos anmelden:\n Lehrer-Anmeldung
URL:https://academy.scimint.com/event/workshop-26/
LOCATION:online\, durch die Uni Frankfurt & Uni Rostock\, per ZOOM
CATEGORIES:Multivisions-Workshop
ATTACH;FMTTYPE=image/png:https://academy.scimint.com/wp-content/uploads/2024/07/ws-original.002.png
ORGANIZER;CN="Universit%C3%A4t Frankfurt":MAILTO:lehrerfortbildungszentrum@chemie.uni-frankfurt.de
END:VEVENT
END:VCALENDAR