BEGIN:VCALENDAR
VERSION:2.0
PRODID:-//scimint | academy - ECPv6.15.13//NONSGML v1.0//EN
CALSCALE:GREGORIAN
METHOD:PUBLISH
X-WR-CALNAME:scimint | academy
X-ORIGINAL-URL:https://academy.scimint.com
X-WR-CALDESC:Veranstaltungen für scimint | academy
REFRESH-INTERVAL;VALUE=DURATION:PT1H
X-Robots-Tag:noindex
X-PUBLISHED-TTL:PT1H
BEGIN:VTIMEZONE
TZID:Europe/Berlin
BEGIN:DAYLIGHT
TZOFFSETFROM:+0100
TZOFFSETTO:+0200
TZNAME:CEST
DTSTART:20250330T010000
END:DAYLIGHT
BEGIN:STANDARD
TZOFFSETFROM:+0200
TZOFFSETTO:+0100
TZNAME:CET
DTSTART:20251026T010000
END:STANDARD
BEGIN:DAYLIGHT
TZOFFSETFROM:+0100
TZOFFSETTO:+0200
TZNAME:CEST
DTSTART:20260329T010000
END:DAYLIGHT
BEGIN:STANDARD
TZOFFSETFROM:+0200
TZOFFSETTO:+0100
TZNAME:CET
DTSTART:20261025T010000
END:STANDARD
BEGIN:DAYLIGHT
TZOFFSETFROM:+0100
TZOFFSETTO:+0200
TZNAME:CEST
DTSTART:20270328T010000
END:DAYLIGHT
BEGIN:STANDARD
TZOFFSETFROM:+0200
TZOFFSETTO:+0100
TZNAME:CET
DTSTART:20271031T010000
END:STANDARD
END:VTIMEZONE
BEGIN:VEVENT
DTSTART;TZID=Europe/Berlin:20260421T150000
DTEND;TZID=Europe/Berlin:20260421T180000
DTSTAMP:20260421T022241
CREATED:20250902T092725Z
LAST-MODIFIED:20250903T110651Z
UID:13602-1776783600-1776794400@academy.scimint.com
SUMMARY:CU-Book Multivisions-Workshop 4|6
DESCRIPTION:Entdecken Sie in unserem Workshop-Teil zur 3D-Modellierung\, wie Sie mit modernen\, frei verfüg-baren Tools Molekülmodelle von der 2D-Skizze bis zum druckfertigen 3D-Objekt professionell erstellen und bearbeiten können!\nSie lernen zunächst\, wie Sie Moleküle in 2D anschaulich darstellen und diese Zeichnungen dann in realistische 3D-Modelle umwandeln. Dabei steht die energetische Optimierung der räumlichen Struktur im Fokus\, sodass Ihre Moleküle nicht nur optisch ansprechend\, sondern auch wissenschaftlich korrekt sind.\nMit der Software Blender.org zeigen wir Ihnen Schritt für Schritt\, wie Sie diese 3D-Modelle kreativ weiterbearbeiten und anpassen können. Sie erfahren\, wie Sie Oberflächen gestalten\, Farb- und Materialeigenschaften definieren und die Modelle aufbereiten\, um sie optimal für den 3D-Druck vorzubereiten.\nAbschließend bereiten Sie Ihre Molekülmodelle so auf\, dass sie als druckbare Dateien (z.B. im STL-Format) exportiert werden können. So erhalten Sie alle Kompetenzen\, um Ihre eigenen Molekülmodelle realistisch zu visualisieren und direkt in die physische Welt zu bringen – ideal für anschaulichen\, innovativen MINT-Unterricht und spannende Schülerprojekte.\nDieser Kursteil macht Sie fit\, die Brücke zwischen digitaler Wissenschaftsvisualisierung und praktischer Anwendung mit modernster 3D-Drucktechnologie zu schlagen. \nEs erwartet dich: \n\nEntwerfen professioneller Strukturformeln\ngeometrische Optimierung mit Freeware\n3D-Anpassung\nModellierung für den 3D-Druck\nSchritte bis zum 3D-Druck\n\n\nLehrer können sich über die Uni Frankfurt oder Rostock kostenlos anmelden:\n Universität Frankfurt\n Universität Rostock\n  \n Komplettprogramm herunterladen\n\n 
URL:https://academy.scimint.com/event/cu-book-multivisions-workshop-46/
LOCATION:online\, durch die Uni Frankfurt & Uni Rostock\, per ZOOM
CATEGORIES:Multivisions-Workshop
ATTACH;FMTTYPE=image/png:https://academy.scimint.com/wp-content/uploads/2024/07/ws-original.004.png
ORGANIZER;CN="scimint | academy":MAILTO:workshop@cubook.de
END:VEVENT
END:VCALENDAR