BEGIN:VCALENDAR
VERSION:2.0
PRODID:-//scimint | academy - ECPv6.15.13//NONSGML v1.0//EN
CALSCALE:GREGORIAN
METHOD:PUBLISH
X-WR-CALNAME:scimint | academy
X-ORIGINAL-URL:https://academy.scimint.com
X-WR-CALDESC:Veranstaltungen für scimint | academy
REFRESH-INTERVAL;VALUE=DURATION:PT1H
X-Robots-Tag:noindex
X-PUBLISHED-TTL:PT1H
BEGIN:VTIMEZONE
TZID:Europe/Berlin
BEGIN:DAYLIGHT
TZOFFSETFROM:+0100
TZOFFSETTO:+0200
TZNAME:CEST
DTSTART:20240331T010000
END:DAYLIGHT
BEGIN:STANDARD
TZOFFSETFROM:+0200
TZOFFSETTO:+0100
TZNAME:CET
DTSTART:20241027T010000
END:STANDARD
BEGIN:DAYLIGHT
TZOFFSETFROM:+0100
TZOFFSETTO:+0200
TZNAME:CEST
DTSTART:20250330T010000
END:DAYLIGHT
BEGIN:STANDARD
TZOFFSETFROM:+0200
TZOFFSETTO:+0100
TZNAME:CET
DTSTART:20251026T010000
END:STANDARD
BEGIN:DAYLIGHT
TZOFFSETFROM:+0100
TZOFFSETTO:+0200
TZNAME:CEST
DTSTART:20260329T010000
END:DAYLIGHT
BEGIN:STANDARD
TZOFFSETFROM:+0200
TZOFFSETTO:+0100
TZNAME:CET
DTSTART:20261025T010000
END:STANDARD
END:VTIMEZONE
BEGIN:VEVENT
DTSTART;TZID=Europe/Berlin:20250203T180000
DTEND;TZID=Europe/Berlin:20250203T190000
DTSTAMP:20260421T003703
CREATED:20240720T145746Z
LAST-MODIFIED:20241120T213150Z
UID:12462-1738605600-1738609200@academy.scimint.com
SUMMARY:CU-Book mini - Blitzworkshop 3 | 4
DESCRIPTION:Wie erzeuge & organisiere ich meine Daten?\nII.6 + II.5 (CUM-B3)\n\nWas bedeutet lokal speichern oder in der Cloud?\nKann ich meine Dateien sortieren und wiederfinden?\nWie erstelle ich meine erste Präsentationsfolie?\nWelche Objekte darf ich verwenden?
URL:https://academy.scimint.com/event/cu-book-mini-blitzworkshop-3-4/
LOCATION:online – scimint\, Tivolistr. 1\, Bad Reichenhall\, Bayern\, 83435\, Deutschland
CATEGORIES:Blitz-Workshop
ATTACH;FMTTYPE=image/png:https://academy.scimint.com/wp-content/uploads/2024/07/ws_blitz.003-1.png
ORGANIZER;CN="scimint | academy":MAILTO:workshop@cubook.de
END:VEVENT
BEGIN:VEVENT
DTSTART;TZID=Europe/Berlin:20250210T180000
DTEND;TZID=Europe/Berlin:20250210T190000
DTSTAMP:20260421T003703
CREATED:20240720T150110Z
LAST-MODIFIED:20241120T213100Z
UID:12467-1739210400-1739214000@academy.scimint.com
SUMMARY:CU-Book mini - Blitzworkshop 4 | 4
DESCRIPTION:Wie funktioniert die Technik und wie installiere ich eine Software\nII.4 + II.7 (CUM-B4)\n\nWer werkelt denn alles in einem Computer?\nWelche Betriebsysteme gibt es und gibt es was einfaches?\nWie geht Installation???\nKann ich einfach Daten teilen oder verschicken?
URL:https://academy.scimint.com/event/cu-book-mini-blitzworkshop-4-4/
LOCATION:online – scimint\, Tivolistr. 1\, Bad Reichenhall\, Bayern\, 83435\, Deutschland
CATEGORIES:Blitz-Workshop
ATTACH;FMTTYPE=image/png:https://academy.scimint.com/wp-content/uploads/2024/07/ws_blitz.004-1.png
ORGANIZER;CN="scimint | academy":MAILTO:workshop@cubook.de
END:VEVENT
BEGIN:VEVENT
DTSTART;TZID=Europe/Berlin:20250225T140000
DTEND;TZID=Europe/Berlin:20250225T180000
DTSTAMP:20260421T003703
CREATED:20240304T214534Z
LAST-MODIFIED:20250122T164503Z
UID:10732-1740492000-1740506400@academy.scimint.com
SUMMARY:CU-Book Multivisions-Workshop 1|6
DESCRIPTION:In diesem Workshop lernst du den grundlegenden Aufbau des CU-Books kennen und wie damit zu arbeiten ist.\nDer ZOCK-Bildungsplan (zukunftsorientierter Computerkurs) ist die perfekte Möglichkeit Computerinhalte in bis zu 7 Fächern übergreifend einzusetzen. \nThemen: \n\nNutzung des Lernsystems\nZOCK – zukunftsorientierter Computerkurs\nSoftware und Dateiformate\nErstellung von Formeln in Mathe\, Physik und Chemie\nPrüfungen online in den MINT-Fächern\n\nErhalten Sie nach dem Workshop das\nZertifikat: MINT-Digitaltrainer | Zukunftsorientierter Computerkurs \n Prüfung für Zertifikat 1\n  \nLehrer können sich über die Uni Frankfurt kostenlos anmelden:\n Lehrer-Anmeldung
URL:https://academy.scimint.com/event/workshop-16/
LOCATION:online\, durch die Uni Frankfurt & Uni Rostock\, per ZOOM
CATEGORIES:Multivisions-Workshop
ATTACH;FMTTYPE=image/png:https://academy.scimint.com/wp-content/uploads/2024/07/ws-original.001.png
ORGANIZER;CN="scimint | academy":MAILTO:workshop@cubook.de
END:VEVENT
END:VCALENDAR