BEGIN:VCALENDAR
VERSION:2.0
PRODID:-//scimint | academy - ECPv6.15.13//NONSGML v1.0//EN
CALSCALE:GREGORIAN
METHOD:PUBLISH
X-WR-CALNAME:scimint | academy
X-ORIGINAL-URL:https://academy.scimint.com
X-WR-CALDESC:Veranstaltungen für scimint | academy
REFRESH-INTERVAL;VALUE=DURATION:PT1H
X-Robots-Tag:noindex
X-PUBLISHED-TTL:PT1H
BEGIN:VTIMEZONE
TZID:Europe/Berlin
BEGIN:DAYLIGHT
TZOFFSETFROM:+0100
TZOFFSETTO:+0200
TZNAME:CEST
DTSTART:20240331T010000
END:DAYLIGHT
BEGIN:STANDARD
TZOFFSETFROM:+0200
TZOFFSETTO:+0100
TZNAME:CET
DTSTART:20241027T010000
END:STANDARD
BEGIN:DAYLIGHT
TZOFFSETFROM:+0100
TZOFFSETTO:+0200
TZNAME:CEST
DTSTART:20250330T010000
END:DAYLIGHT
BEGIN:STANDARD
TZOFFSETFROM:+0200
TZOFFSETTO:+0100
TZNAME:CET
DTSTART:20251026T010000
END:STANDARD
BEGIN:DAYLIGHT
TZOFFSETFROM:+0100
TZOFFSETTO:+0200
TZNAME:CEST
DTSTART:20260329T010000
END:DAYLIGHT
BEGIN:STANDARD
TZOFFSETFROM:+0200
TZOFFSETTO:+0100
TZNAME:CET
DTSTART:20261025T010000
END:STANDARD
END:VTIMEZONE
BEGIN:VEVENT
DTSTART;TZID=Europe/Berlin:20250506T140000
DTEND;TZID=Europe/Berlin:20250506T180000
DTSTAMP:20260423T124038
CREATED:20240304T211607Z
LAST-MODIFIED:20250122T170524Z
UID:10716-1746540000-1746554400@academy.scimint.com
SUMMARY:CU-Book Multivisions-Workshop 5|6
DESCRIPTION:In diesem Kurs erlernst du Grundlagen der Fotografie\, die auch in der Videografik benötigt werden. Du verstehst dann\, welche Einstellungen zum perfekten Foto oder Video führen und kannst Suchergebnisse aus dem Internet besser einschätzen. Lade Videos herunter und kürze sie auf die perfekte Länge oder füge schnell Schnipsel zusammen. …Nie wieder während der Präsentation in den Browser wechseln…! \nDas erwartet dich im Workshop:\n\nGrundlagen der Foto- & Videographie\nKaufempfehlungen\nFotobearbeitung\nVideobearbeitung für die Präsentation\nerstellen dynamischer Folien\n\nLehrer können sich über die Uni Frankfurt kostenlos anmelden:\n Lehrer-Anmeldung\nKosten?Lehrer aus dem ganzen Bundesgebiet können über die Uni Frankfurt (Link oben) kostenlos teilnehmen. Alle anderen Teilnehmer wählen bitte normalen Anmeldeweg\, da dieser nicht von den Kultusministerien finanziert wird. Sollten Sie eine kostenlose Teilnahme wünschen bitte kontaktieren sie uns per Mail: → workshop@cubook.de
URL:https://academy.scimint.com/event/workshop-56/
LOCATION:online\, durch die Uni Frankfurt & Uni Rostock\, per ZOOM
CATEGORIES:Multivisions-Workshop
ATTACH;FMTTYPE=image/png:https://academy.scimint.com/wp-content/uploads/2024/07/ws-original.005.png
ORGANIZER;CN="Universit%C3%A4t Frankfurt":MAILTO:lehrerfortbildungszentrum@chemie.uni-frankfurt.de
END:VEVENT
END:VCALENDAR